BEGIN:VCALENDAR
VERSION:2.0
PRODID:-//Salisbury Historical Society, NH - ECPv6.15.20//NONSGML v1.0//EN
CALSCALE:GREGORIAN
METHOD:PUBLISH
X-WR-CALNAME:Salisbury Historical Society, NH
X-ORIGINAL-URL:https://www.salisburyhistoricalsociety.org
X-WR-CALDESC:Events for Salisbury Historical Society, NH
REFRESH-INTERVAL;VALUE=DURATION:PT1H
X-Robots-Tag:noindex
X-PUBLISHED-TTL:PT1H
BEGIN:VTIMEZONE
TZID:America/New_York
BEGIN:DAYLIGHT
TZOFFSETFROM:-0500
TZOFFSETTO:-0400
TZNAME:EDT
DTSTART:20250309T070000
END:DAYLIGHT
BEGIN:STANDARD
TZOFFSETFROM:-0400
TZOFFSETTO:-0500
TZNAME:EST
DTSTART:20251102T060000
END:STANDARD
BEGIN:DAYLIGHT
TZOFFSETFROM:-0500
TZOFFSETTO:-0400
TZNAME:EDT
DTSTART:20260308T070000
END:DAYLIGHT
BEGIN:STANDARD
TZOFFSETFROM:-0400
TZOFFSETTO:-0500
TZNAME:EST
DTSTART:20261101T060000
END:STANDARD
BEGIN:DAYLIGHT
TZOFFSETFROM:-0500
TZOFFSETTO:-0400
TZNAME:EDT
DTSTART:20270314T070000
END:DAYLIGHT
BEGIN:STANDARD
TZOFFSETFROM:-0400
TZOFFSETTO:-0500
TZNAME:EST
DTSTART:20271107T060000
END:STANDARD
END:VTIMEZONE
BEGIN:VEVENT
DTSTART;TZID=America/New_York:20260620T130000
DTEND;TZID=America/New_York:20260620T150000
DTSTAMP:20260423T195825
CREATED:20260223T185936Z
LAST-MODIFIED:20260223T185936Z
UID:13492-1781960400-1781967600@www.salisburyhistoricalsociety.org
SUMMARY:Open House for Hearse House & Meeting House
DESCRIPTION:
URL:https://www.salisburyhistoricalsociety.org/event/open-house-for-hearse-house-meeting-house-3/
LOCATION:Hearse House\, 651 Old Turnpike Rd\, Salisbury\, 03268
ORGANIZER;CN="Salisbury Historical Society":MAILTO:contact@salisburyhistoricalsociety.org
END:VEVENT
BEGIN:VEVENT
DTSTART;TZID=America/New_York:20260616T183000
DTEND;TZID=America/New_York:20260616T200000
DTSTAMP:20260423T195825
CREATED:20260410T100456Z
LAST-MODIFIED:20260420T185127Z
UID:13602-1781634600-1781640000@www.salisburyhistoricalsociety.org
SUMMARY:A Walk Back in Time: The Secrets of Cellar Holes Presenter Adair Mulligan
DESCRIPTION:A Walk Back in Time: The Secrets of Cellar Holes\nPresenter: Adair Mulligan \n\nNorthern New England is full of reminders of past lives: stone walls\, old foundations\, a century-old lilac struggling to survive as the forest reclaims a once-sunny dooryard. What forces shaped the settlement and later abandonment of these places? Adair Mulligan explores the rich story to be discovered in what remains behind. See how one town has set out to create an inventory of its cellar holes\, piecing together the clues in the landscape. Such a project can help landowners know what to do if they have archaeological sites on their land and help stimulate interest in a town’s future through its past.
URL:https://www.salisburyhistoricalsociety.org/event/a-walk-back-in-time-the-secrets-of-cellar-holes-presenter-adair-mulligan/
LOCATION:Meeting House\, 655 Old Turnpike Road\, Salisbury\, NH\, 03268\, United States
ORGANIZER;CN="Salisbury Historical Society":MAILTO:contact@salisburyhistoricalsociety.org
END:VEVENT
BEGIN:VEVENT
DTSTART;TZID=America/New_York:20260616T180000
DTEND;TZID=America/New_York:20260616T190000
DTSTAMP:20260423T195825
CREATED:20260410T100140Z
LAST-MODIFIED:20260410T100140Z
UID:13598-1781632800-1781636400@www.salisburyhistoricalsociety.org
SUMMARY:Members Meeting
DESCRIPTION:
URL:https://www.salisburyhistoricalsociety.org/event/members-meeting-2/
LOCATION:Meeting House\, 655 Old Turnpike Road\, Salisbury\, NH\, 03268\, United States
ORGANIZER;CN="Salisbury Historical Society":MAILTO:contact@salisburyhistoricalsociety.org
END:VEVENT
BEGIN:VEVENT
DTSTART;TZID=America/New_York:20260614T110000
DTEND;TZID=America/New_York:20260614T160000
DTSTAMP:20260423T195825
CREATED:20260307T121326Z
LAST-MODIFIED:20260307T130851Z
UID:13526-1781434800-1781452800@www.salisburyhistoricalsociety.org
SUMMARY:New London Historical Socieity Old Home Day
DESCRIPTION:New London History Expo and Old Home Day – Village Open House\n\n\nNew London History EXPO \nHistory Over the Years \n\n\nSunday\, June 14th\, 2026 \n11:00AM to 4:00PM \n​More information to Follow
URL:https://www.salisburyhistoricalsociety.org/event/new-london-historical-socieity-old-home-day/
LOCATION:NH
END:VEVENT
BEGIN:VEVENT
DTSTART;TZID=America/New_York:20260613T130000
DTEND;TZID=America/New_York:20260613T150000
DTSTAMP:20260423T195825
CREATED:20260223T185849Z
LAST-MODIFIED:20260223T185849Z
UID:13490-1781355600-1781362800@www.salisburyhistoricalsociety.org
SUMMARY:Open House for Hearse House & Meeting House
DESCRIPTION:
URL:https://www.salisburyhistoricalsociety.org/event/open-house-for-hearse-house-meeting-house-2/
LOCATION:Hearse House\, 651 Old Turnpike Rd\, Salisbury\, 03268
ORGANIZER;CN="Salisbury Historical Society":MAILTO:contact@salisburyhistoricalsociety.org
END:VEVENT
BEGIN:VEVENT
DTSTART;TZID=America/New_York:20260606T130000
DTEND;TZID=America/New_York:20260606T150000
DTSTAMP:20260423T195825
CREATED:20260223T185533Z
LAST-MODIFIED:20260223T185533Z
UID:13488-1780750800-1780758000@www.salisburyhistoricalsociety.org
SUMMARY:Open House for Hearse House & Meeting House
DESCRIPTION:
URL:https://www.salisburyhistoricalsociety.org/event/open-house-for-hearse-house-meeting-house/
LOCATION:Hearse House\, 651 Old Turnpike Rd\, Salisbury\, 03268
END:VEVENT
BEGIN:VEVENT
DTSTART;TZID=America/New_York:20260530T130000
DTEND;TZID=America/New_York:20260530T150000
DTSTAMP:20260423T195825
CREATED:20260223T185338Z
LAST-MODIFIED:20260223T185707Z
UID:13485-1780146000-1780153200@www.salisburyhistoricalsociety.org
SUMMARY:Open House for Hearse House & Meeting House
DESCRIPTION:
URL:https://www.salisburyhistoricalsociety.org/event/open-hearse-house-meeting-house/
LOCATION:Hearse House\, 651 Old Turnpike Rd\, Salisbury\, 03268
END:VEVENT
BEGIN:VEVENT
DTSTART;TZID=America/New_York:20260519T180000
DTEND;TZID=America/New_York:20260519T190000
DTSTAMP:20260423T195825
CREATED:20260410T100008Z
LAST-MODIFIED:20260410T100035Z
UID:13595-1779213600-1779217200@www.salisburyhistoricalsociety.org
SUMMARY:Members Meeting & Scholarship Award Ceremony
DESCRIPTION:
URL:https://www.salisburyhistoricalsociety.org/event/members-meeting/
LOCATION:Meeting House\, 655 Old Turnpike Road\, Salisbury\, NH\, 03268\, United States
ORGANIZER;CN="Salisbury Historical Society":MAILTO:contact@salisburyhistoricalsociety.org
END:VEVENT
BEGIN:VEVENT
DTSTART;TZID=America/New_York:20260506T183000
DTEND;TZID=America/New_York:20260506T193000
DTSTAMP:20260423T195825
CREATED:20260129T115525Z
LAST-MODIFIED:20260129T162549Z
UID:13410-1778092200-1778095800@www.salisburyhistoricalsociety.org
SUMMARY:Executive Board Meeting
DESCRIPTION:
URL:https://www.salisburyhistoricalsociety.org/event/executive-board-3/
LOCATION:Meeting House\, 655 Old Turnpike Road\, Salisbury\, NH\, 03268\, United States
END:VEVENT
BEGIN:VEVENT
DTSTART;TZID=America/New_York:20260418T110000
DTEND;TZID=America/New_York:20260418T140000
DTSTAMP:20260423T195825
CREATED:20260410T101718Z
LAST-MODIFIED:20260410T101718Z
UID:13608-1776510000-1776520800@www.salisburyhistoricalsociety.org
SUMMARY:Grounds Clean Up at Hearse House & Meeting House
DESCRIPTION:
URL:https://www.salisburyhistoricalsociety.org/event/grounds-clean-up-at-hearse-house-meeting-house/
LOCATION:Hearse House Museum & Baptist Meeting House\, 651 Old Turnpike Road\, Salisbury\, NH\, 03268\, United States
ORGANIZER;CN="Salisbury Historical Society":MAILTO:contact@salisburyhistoricalsociety.org
END:VEVENT
BEGIN:VEVENT
DTSTART;TZID=America/New_York:20260401T183000
DTEND;TZID=America/New_York:20260401T193000
DTSTAMP:20260423T195825
CREATED:20260129T115432Z
LAST-MODIFIED:20260129T161955Z
UID:13408-1775068200-1775071800@www.salisburyhistoricalsociety.org
SUMMARY:Executive Board Meeting
DESCRIPTION:
URL:https://www.salisburyhistoricalsociety.org/event/executive-board-2/
LOCATION:Meeting House\, 655 Old Turnpike Road\, Salisbury\, NH\, 03268\, United States
END:VEVENT
BEGIN:VEVENT
DTSTART;TZID=America/New_York:20260304T183000
DTEND;TZID=America/New_York:20260304T193000
DTSTAMP:20260423T195825
CREATED:20260129T115400Z
LAST-MODIFIED:20260223T165622Z
UID:13406-1772649000-1772652600@www.salisburyhistoricalsociety.org
SUMMARY:Executive Board Meeting
DESCRIPTION:
URL:https://www.salisburyhistoricalsociety.org/event/executive-board/
LOCATION:Meeting House\, 655 Old Turnpike Road\, Salisbury\, NH\, 03268\, United States
ORGANIZER;CN="Salisbury Historical Society":MAILTO:contact@salisburyhistoricalsociety.org
END:VEVENT
BEGIN:VEVENT
DTSTART;TZID=America/New_York:20260204T183000
DTEND;TZID=America/New_York:20260204T193000
DTSTAMP:20260423T195825
CREATED:20260129T115322Z
LAST-MODIFIED:20260129T160726Z
UID:13404-1770229800-1770233400@www.salisburyhistoricalsociety.org
SUMMARY:Executive Board Meeting
DESCRIPTION:
URL:https://www.salisburyhistoricalsociety.org/event/executive-board-meeting/
LOCATION:Fair View Farm\, 57 Loverin Hill Road\, Salisbury\, NH\, 03268\, United States
END:VEVENT
END:VCALENDAR